Felt | Verdi |
AlreadyApplied | True |
Aperture | 11.0 |
ApertureValue | 11.0 |
ApproximateFocusDistance | 14.1 |
Artist | CATO HANSEN |
AutoLateralCA | 0 |
BitsPerSample | 8 |
Blacks2012 | 0 |
BlueHue | 0 |
BlueSaturation | 0 |
By-line | CATO HANSEN |
CameraProfile | Adobe Standard |
CFAPattern | [Red,Green][Green,Blue] |
CircGradBasedCorrActive | true |
CircGradBasedCorrAmount | 1.000000 |
CircGradBasedCorrBrightness | 0.000000 |
CircGradBasedCorrClarity2012 | 0.000000 |
CircGradBasedCorrContrast2012 (2) | 0.263890 |
CircGradBasedCorrContrast2012 | 0.000000 |
CircGradBasedCorrCorrectionRangeMaskColorAmount | 0.500000 |
CircGradBasedCorrCorrectionRangeMaskDepthFeather | 0.500000 |
CircGradBasedCorrCorrectionRangeMaskDepthMax | 1.000000 |
CircGradBasedCorrCorrectionRangeMaskDepthMin | 0.000000 |
CircGradBasedCorrCorrectionRangeMaskLumFeather | 0.500000 |
CircGradBasedCorrCorrectionRangeMaskLumMax | 1.000000 |
CircGradBasedCorrCorrectionRangeMaskLumMin | 0.000000 |
CircGradBasedCorrCorrectionRangeMaskType | 0 |
CircGradBasedCorrCorrectionRangeMaskVersion | +2 |
CircGradBasedCorrDefringe | 0.000000 |
CircGradBasedCorrExposure2012 (1) | 0.125000 |
CircGradBasedCorrExposure2012 | 0.069500 |
CircGradBasedCorrHighlights2012 | 0.000000 |
CircGradBasedCorrHue | 240.000000 |
CircGradBasedCorrLocalBlacks2012 | 0.000000 |
CircGradBasedCorrLocalDehaze | 0.000000 |
CircGradBasedCorrLocalHue | 0.000000 |
CircGradBasedCorrLocalTexture | 0.000000 |
CircGradBasedCorrLocalWhites2012 (1) | 0.486110 |
CircGradBasedCorrLocalWhites2012 (2) | 0.569440 |
CircGradBasedCorrLocalWhites2012 | 0.500000 |
CircGradBasedCorrLuminanceNoise | 0.000000 |
CircGradBasedCorrMaskAngle | 0.000000 |
CircGradBasedCorrMaskBottom (1) | 0.677625 |
CircGradBasedCorrMaskBottom (2) | 0.769645 |
CircGradBasedCorrMaskBottom | 0.643256 |
CircGradBasedCorrMaskFeather | +96 |
CircGradBasedCorrMaskFlipped | true |
CircGradBasedCorrMaskLeft (1) | 0.388285 |
CircGradBasedCorrMaskLeft (2) | 0.642818 |
CircGradBasedCorrMaskLeft | 0.068638 |
CircGradBasedCorrMaskMidpoint | +50 |
CircGradBasedCorrMaskRight (1) | 0.736048 |
CircGradBasedCorrMaskRight (2) | 0.971343 |
CircGradBasedCorrMaskRight | 0.406043 |
CircGradBasedCorrMaskRoundness | 0 |
CircGradBasedCorrMaskTop (1) | 0.389369 |
CircGradBasedCorrMaskTop (2) | 0.510214 |
CircGradBasedCorrMaskTop | 0.408216 |
CircGradBasedCorrMaskValue | 1.000000 |
CircGradBasedCorrMaskVersion | +2 |
CircGradBasedCorrMaskWhat | Mask/CircularGradient |
CircGradBasedCorrMoire | 0.000000 |
CircGradBasedCorrSaturation (3) | 0.277780 |
CircGradBasedCorrSaturation | 0.000000 |
CircGradBasedCorrShadows2012 (1) | 0.402780 |
CircGradBasedCorrShadows2012 | 0.000000 |
CircGradBasedCorrSharpness | 0.000000 |
CircGradBasedCorrTemperature | 0.000000 |
CircGradBasedCorrTint | 0.000000 |
CircGradBasedCorrWhat | Correction |
CircleOfConfusion | 0.030 mm |
Clarity2012 | +6 |
ColorComponents | 3 |
ColorNoiseReduction | 25 |
ColorNoiseReductionDetail | 50 |
ColorNoiseReductionSmoothness | 50 |
ColorSpace | Uncalibrated |
ColorTemperature | 5250 |
ColorTransform | YCbCr |
Contrast | Normal |
Contrast2012 | +16 |
ConvertToGrayscale | False |
Copyright | CATO HANSEN |
CopyrightNotice | CATO HANSEN |
CreateDate (1) | 2020:06:20 16:24:50.95 |
CreateDate | 2020:06:20 16:24:50 |
Creator | CATO HANSEN |
CreatorTool | Adobe Photoshop Lightroom Classic 9.3 (Windows) |
CropAngle | 0 |
CropBottom | 0.929295 |
CropConstrainToWarp | 0 |
CropLeft | 0.04866 |
CropRight | 0.948406 |
CropTop | 0.170959 |
CustomRendered | Custom |
DateCreated (1) | 2020:06:20 |
DateCreated | 2020:06:20 16:24:50.95 |
DateTimeOriginal | 2020:06:20 16:24:50 |
DefringeGreenAmount | 0 |
DefringeGreenHueHi | 60 |
DefringeGreenHueLo | 40 |
DefringePurpleAmount | 0 |
DefringePurpleHueHi | 70 |
DefringePurpleHueLo | 30 |
Dehaze | 0 |
DigitalZoomRatio | 1 |
DOF | inf (2.29 m - inf) |
Exposure2012 | +0.46 |
ExposureCompensation | -1 |
ExposureMode | Auto |
ExposureProgram | Aperture-priority AE |
ExposureTime | 2.5 |
Flash | Off, Did not fire |
FNumber | 11.0 |
FocalLength | 30.0 mm |
FocalLength35efl | 30.0 mm (35 mm equivalent: 30.0 mm) |
FocalLengthIn35mmFormat | 30 mm |
Format | image/jpeg |
FOV | 61.9 deg |
GainControl | None |
GradientBasedCorrActive | true |
GradientBasedCorrAmount | 1.000000 |
GradientBasedCorrBrightness | 0.000000 |
GradientBasedCorrClarity2012 | 0.097220 |
GradientBasedCorrContrast2012 | 0.000000 |
GradientBasedCorrCorrectionRangeMaskColorAmount | 0.500000 |
GradientBasedCorrCorrectionRangeMaskDepthFeather | 0.500000 |
GradientBasedCorrCorrectionRangeMaskDepthMax | 1.000000 |
GradientBasedCorrCorrectionRangeMaskDepthMin | 0.000000 |
GradientBasedCorrCorrectionRangeMaskLumFeather | 0.500000 |
GradientBasedCorrCorrectionRangeMaskLumMax | 1.000000 |
GradientBasedCorrCorrectionRangeMaskLumMin | 0.000000 |
GradientBasedCorrCorrectionRangeMaskType | 0 |
GradientBasedCorrCorrectionRangeMaskVersion | +2 |
GradientBasedCorrDefringe | 0.000000 |
GradientBasedCorrExposure2012 | 0.069500 |
GradientBasedCorrHighlights2012 | 0.000000 |
GradientBasedCorrHue | 240.000000 |
GradientBasedCorrLocalBlacks2012 | 0.000000 |
GradientBasedCorrLocalDehaze | 0.000000 |
GradientBasedCorrLocalHue | 0.000000 |
GradientBasedCorrLocalTexture | 0.250000 |
GradientBasedCorrLocalWhites2012 | 0.000000 |
GradientBasedCorrLuminanceNoise | 0.000000 |
GradientBasedCorrMaskFullX | 0.548848 |
GradientBasedCorrMaskFullY | 0.738603 |
GradientBasedCorrMaskValue | 1.000000 |
GradientBasedCorrMaskWhat | Mask/Gradient |
GradientBasedCorrMaskZeroX | 0.549514 |
GradientBasedCorrMaskZeroY | 0.597822 |
GradientBasedCorrMoire | 0.000000 |
GradientBasedCorrSaturation (1) | 0.277780 |
GradientBasedCorrSaturation | 0.000000 |
GradientBasedCorrShadows2012 | 0.000000 |
GradientBasedCorrSharpness | 0.000000 |
GradientBasedCorrTemperature | 0.000000 |
GradientBasedCorrTint | 0.000000 |
GradientBasedCorrWhat | Correction |
GrainAmount | 0 |
GreenHue | 0 |
GreenSaturation | 0 |
HasCrop | True |
HasExtendedXMP | 9CB15779243FA26052C2EA770F76D856 |
HasSettings | True |
Highlights2012 | -1 |
HueAdjustmentAqua | 0 |
HueAdjustmentBlue | 0 |
HueAdjustmentGreen | +4 |
HueAdjustmentMagenta | 0 |
HueAdjustmentOrange | 0 |
HueAdjustmentPurple | 0 |
HueAdjustmentRed | 0 |
HueAdjustmentYellow | +1 |
HyperfocalDistance | 2.72 m |
ImageHeight | 3725 |
ImageNumber | 148203 |
ImageSize | 6622x3725 |
ImageWidth | 6622 |
ISO | 64 |
Keywords | 2020, juni, landscape, nordland, norge, summer, travel, tur |
Lens | TAMRON SP 24-70mm F2.8 Di VC USD A007N |
LensID (1) | 254 |
LensID | Tamron SP 24-70mm f/2.8 Di VC USD (A007) |
LensInfo | 24-70mm f/2.8 |
LensManualDistortionAmount | 0 |
LensModel | TAMRON SP 24-70mm F2.8 Di VC USD A007N |
LensProfileEnable | 0 |
LensProfileSetup | LensDefaults |
LightSource | Unknown |
LightValue | 6.2 |
LookAmount | 1.000000 |
LookGroup | Profiles |
LookName | Adobe Color |
LookParametersCameraProfile | Adobe Standard |
LookParametersConvertToGrayscale | False |
LookParametersLookTable | E1095149FDB39D7A057BAB208837E2E1 |
LookParametersProcessVersion | 11.0 |
LookParametersToneCurvePV2012 | 0, 0, 22, 16, 40, 35, 127, 127, 224, 230, 240, 246, 255, 255 |
LookParametersToneCurvePV2012Blue | 0, 0, 255, 255 |
LookParametersToneCurvePV2012Green | 0, 0, 255, 255 |
LookParametersToneCurvePV2012Red | 0, 0, 255, 255 |
LookParametersVersion | 12.3 |
LookSupportsAmount | false |
LookSupportsMonochrome | false |
LookSupportsOutputReferred | false |
LuminanceAdjustmentAqua | 0 |
LuminanceAdjustmentBlue | 0 |
LuminanceAdjustmentGreen | +5 |
LuminanceAdjustmentMagenta | 0 |
LuminanceAdjustmentOrange | +33 |
LuminanceAdjustmentPurple | 0 |
LuminanceAdjustmentRed | 0 |
LuminanceAdjustmentYellow | +19 |
LuminanceSmoothing | 0 |
Make | NIKON CORPORATION |
MaxApertureValue | 2.8 |
Megapixels | 24.7 |
MeteringMode | Center-weighted average |
Model | NIKON D810 |
ModifyDate (1) | 2020:07:05 12:16:44+02:00 |
ModifyDate | 2020:07:05 12:16:44 |
OverrideLookVignette | False |
PaintCorrectionActive | true |
PaintCorrectionAmount | 1.000000 |
PaintCorrectionBrightness | 0.000000 |
PaintCorrectionClarity2012 (1) | 0.180560 |
PaintCorrectionClarity2012 | 0.000000 |
PaintCorrectionContrast2012 | 0.000000 |
PaintCorrectionCorrectionRangeMaskColorAmount | 0.500000 |
PaintCorrectionCorrectionRangeMaskDepthFeather | 0.500000 |
PaintCorrectionCorrectionRangeMaskDepthMax | 1.000000 |
PaintCorrectionCorrectionRangeMaskDepthMin | 0.000000 |
PaintCorrectionCorrectionRangeMaskLumFeather (1) | 0.500000 |
PaintCorrectionCorrectionRangeMaskLumFeather | 0.554740 |
PaintCorrectionCorrectionRangeMaskLumMax | 1.000000 |
PaintCorrectionCorrectionRangeMaskLumMin (2) | 0.000000 |
PaintCorrectionCorrectionRangeMaskLumMin | 0.251852 |
PaintCorrectionCorrectionRangeMaskType (2) | 0 |
PaintCorrectionCorrectionRangeMaskType | +2 |
PaintCorrectionCorrectionRangeMaskVersion | +2 |
PaintCorrectionDefringe | 0.000000 |
PaintCorrectionExposure2012 (1) | 0.291750 |
PaintCorrectionExposure2012 (5) | 0.152750 |
PaintCorrectionExposure2012 | 0.000000 |
PaintCorrectionHighlights2012 (1) | 0.208330 |
PaintCorrectionHighlights2012 (4) | 0.486110 |
PaintCorrectionHighlights2012 (6) | 0.041670 |
PaintCorrectionHighlights2012 | 0.000000 |
PaintCorrectionHue | 240.000000 |
PaintCorrectionLocalBlacks2012 | 0.000000 |
PaintCorrectionLocalDehaze | 0.000000 |
PaintCorrectionLocalHue | 0.000000 |
PaintCorrectionLocalTexture | 0.000000 |
PaintCorrectionLocalWhites2012 (1) | 0.291670 |
PaintCorrectionLocalWhites2012 (3) | 0.319440 |
PaintCorrectionLocalWhites2012 (6) | 0.000000 |
PaintCorrectionLocalWhites2012 | 0.388890 |
PaintCorrectionLuminanceNoise | 0.000000 |
PaintCorrectionMaskCenterWeight | 0.065387 |
PaintCorrectionMaskFlow | 0.654000 |
PaintCorrectionMaskRadius (11) | 0.040449 |
PaintCorrectionMaskRadius (16) | 0.064765 |
PaintCorrectionMaskRadius (33) | 0.096554 |
PaintCorrectionMaskRadius (38) | 0.035823 |
PaintCorrectionMaskRadius (43) | 0.004923 |
PaintCorrectionMaskRadius (47) | 0.010063 |
PaintCorrectionMaskRadius (56) | 0.018754 |
PaintCorrectionMaskRadius (59) | 0.085641 |
PaintCorrectionMaskRadius (63) | 0.018109 |
PaintCorrectionMaskRadius (7) | 0.007428 |
PaintCorrectionMaskRadius (75) | 0.059743 |
PaintCorrectionMaskRadius (79) | 0.049938 |
PaintCorrectionMaskRadius (81) | 0.045154 |
PaintCorrectionMaskRadius (87) | 0.005743 |
PaintCorrectionMaskRadius (88) | 0.010971 |
PaintCorrectionMaskRadius (95) | 0.008292 |
PaintCorrectionMaskRadius (96) | 0.013780 |
PaintCorrectionMaskRadius | 0.031276 |
PaintCorrectionMaskValue | 0.740000 |
PaintCorrectionMaskWhat | Mask/Paint |
PaintCorrectionMoire | 0.000000 |
PaintCorrectionSaturation (13) | 0.236110 |
PaintCorrectionSaturation (3) | 0.166670 |
PaintCorrectionSaturation (5) | 0.277780 |
PaintCorrectionSaturation | 0.000000 |
PaintCorrectionShadows2012 (1) | 0.208330 |
PaintCorrectionShadows2012 (5) | 0.277780 |
PaintCorrectionShadows2012 | 0.000000 |
PaintCorrectionSharpness | 0.000000 |
PaintCorrectionTemperature | 0.000000 |
PaintCorrectionTint | 0.000000 |
PaintCorrectionWhat | Correction |
ParametricDarks | 0 |
ParametricHighlights | 0 |
ParametricHighlightSplit | 75 |
ParametricLights | 0 |
ParametricMidtoneSplit | 50 |
ParametricShadows | 0 |
ParametricShadowSplit | 25 |
PerspectiveAspect | 0 |
PerspectiveHorizontal | 0 |
PerspectiveRotate | 0.0 |
PerspectiveScale | 100 |
PerspectiveUpright | 0 |
PerspectiveVertical | 0 |
PerspectiveX | 0.00 |
PerspectiveY | 0.00 |
PostCropVignetteAmount | 0 |
PreservedFileName | _CHA9013.NEF |
ProcessVersion | 11.0 |
ProfileDescription | Adobe RGB (1998) |
RangeMaskMapInfoRangeMaskMapInfoLabMax | 0.999680 0.515831 0.549752 |
RangeMaskMapInfoRangeMaskMapInfoLabMin | 0.006622 0.478843 0.452003 |
RangeMaskMapInfoRangeMaskMapInfoRGBMax | 0.081285 0.079927 0.083284 |
RangeMaskMapInfoRangeMaskMapInfoRGBMin | 0.000351 0.000397 0.000244 |
Rating | 2 |
RawFileName | _CHA9013.NEF |
RedHue | 0 |
RedSaturation | 0 |
Rights | CATO HANSEN |
Saturation (1) | 0 |
Saturation | Normal |
SaturationAdjustmentAqua | 0 |
SaturationAdjustmentBlue | 0 |
SaturationAdjustmentGreen | 0 |
SaturationAdjustmentMagenta | 0 |
SaturationAdjustmentOrange | +20 |
SaturationAdjustmentPurple | 0 |
SaturationAdjustmentRed | 0 |
SaturationAdjustmentYellow | +7 |
ScaleFactor35efl | 1.0 |
SceneCaptureType | Standard |
SceneType | Directly photographed |
SensingMethod | One-chip color area |
SensitivityType | Recommended Exposure Index |
SerialNumber | 6013221 |
Shadows2012 | +32 |
ShadowTint | 0 |
SharpenDetail | 25 |
SharpenEdgeMasking | 0 |
SharpenRadius | +1.0 |
Sharpness (1) | 40 |
Sharpness | Normal |
ShutterSpeed | 2.5 |
ShutterSpeedValue | 2.5 |
Software | Adobe Photoshop Lightroom Classic 9.3 (Windows) |
SplitToningBalance | 0 |
SplitToningHighlightHue | 0 |
SplitToningHighlightSaturation | 0 |
SplitToningShadowHue | 0 |
SplitToningShadowSaturation | 0 |
Subject | 2020, juni, landscape, nordland, norge, summer, travel, tur |
SubjectDistanceRange | Unknown |
Texture | +15 |
Tint | -1 |
ToneCurve | 0, 0, 255, 255 |
ToneCurveBlue | 0, 0, 255, 255 |
ToneCurveGreen | 0, 0, 255, 255 |
ToneCurveName | Linear |
ToneCurveName2012 | Linear |
ToneCurvePV2012 | 0, 0, 255, 255 |
ToneCurvePV2012Blue | 0, 0, 255, 255 |
ToneCurvePV2012Green | 0, 0, 255, 255 |
ToneCurvePV2012Red | 0, 0, 255, 255 |
ToneCurveRed | 0, 0, 255, 255 |
ToneMapStrength | 0 |
Version | 12.3 |
Vibrance | 0 |
VignetteAmount | 0 |
WhiteBalance (1) | As Shot |
WhiteBalance | Auto |
Whites2012 | -16 |