Felt | Verdi |
AlreadyApplied | True |
Aperture | 5.0 |
ApertureValue | 5.0 |
ApproximateFocusDistance | 3.48 |
Artist | Stephen Braathen |
AutoLateralCA | 0 |
BitsPerSample (1) | 8 8 8 |
BitsPerSample | 8 |
Blacks2012 | 0 |
BlueHue | 0 |
BlueSaturation | 0 |
By-line | Stephen Braathen, Stephen Braathen |
CameraProfile | Adobe Standard |
CircleOfConfusion | 0.020 mm |
Clarity2012 | 0 |
ColorComponents | 3 |
ColorGradeBlending | 50 |
ColorGradeGlobalHue | 0 |
ColorGradeGlobalLum | 0 |
ColorGradeGlobalSat | 0 |
ColorGradeHighlightLum | 0 |
ColorGradeMidtoneHue | 0 |
ColorGradeMidtoneLum | 0 |
ColorGradeMidtoneSat | 0 |
ColorGradeShadowLum | 0 |
ColorMode | RGB |
ColorNoiseReduction | 25 |
ColorNoiseReductionDetail | 50 |
ColorNoiseReductionSmoothness | 50 |
ColorSpace | Adobe RGB |
ColorTemperature | 7150 |
Contrast2012 | 0 |
CreateDate | 2020:11:14 15:54:23 |
Creator | Stephen Braathen |
CreatorTool | Adobe Photoshop 22.0 (Windows) |
CustomRendered | Normal |
DateCreated (1) | 2020:11:14 |
DateCreated | 2020:11:14 15:54:23 |
DateTimeOriginal | 2020:11:14 15:54:23 |
DefringeGreenAmount | 0 |
DefringeGreenHueHi | 60 |
DefringeGreenHueLo | 40 |
DefringePurpleAmount | 0 |
DefringePurpleHueHi | 70 |
DefringePurpleHueLo | 30 |
Dehaze | 0 |
DOF | 0.07 m (3.45 - 3.51 m) |
ExifImageHeight | 3648 |
ExifImageWidth | 2432 |
Exposure2012 | -0.50 |
ExposureCompensation | 0 |
ExposureMode | Manual |
ExposureProgram | Manual |
ExposureTime | 1/320 |
Firmware | 1.1.7 |
Flash | Off, Did not fire |
FlashCompensation | 0 |
FNumber | 5.0 |
FocalLength | 185.0 mm |
FocalLength35efl | 185.0 mm (35 mm equivalent: 277.5 mm) |
Format | image/jpeg |
FOV | 7.4 deg |
GrainAmount | 0 |
GreenHue | 0 |
GreenSaturation | 0 |
HasCrop | False |
HasSettings | True |
Highlights2012 | +51 |
HueAdjustmentAqua | 0 |
HueAdjustmentBlue | 0 |
HueAdjustmentGreen | 0 |
HueAdjustmentMagenta | 0 |
HueAdjustmentOrange | 0 |
HueAdjustmentPurple | 0 |
HueAdjustmentRed | 0 |
HueAdjustmentYellow | 0 |
HyperfocalDistance | 341.72 m |
ICCProfileName | Adobe RGB (1998) |
ImageHeight | 3648 |
ImageNumber | 0 |
ImageSize | 2432x3648 |
ImageWidth (1) | 5472 |
ImageWidth | 2432 |
ISO | 500 |
Lens | EF70-200mm f/2.8L IS USM +1.4x |
LensID (1) | 225 |
LensID | Canon EF 70-200mm f/2.8L IS USM + 1.4x |
LensInfo | 98-280mm f/? |
LensManualDistortionAmount | 0 |
LensModel | EF70-200mm f/2.8L IS USM +1.4x |
LensProfileEnable | 0 |
LensSerialNumber | 0000000000 |
LightValue | 10.6 |
LookAmount | 1.000000 |
LookCopyright | © 2018 Adobe Systems, Inc. |
LookGroup | Profiles |
LookName | Adobe Vivid |
LookParametersCameraProfile | Adobe Standard |
LookParametersClarity2012 | +10 |
LookParametersConvertToGrayscale | False |
LookParametersLookTable | 2FE663AB0D3CE5DA7B9F657BBCD66DFE |
LookParametersProcessVersion | 11.0 |
LookParametersToneCurvePV2012 | 0, 0, 32, 22, 64, 56, 128, 128, 224, 232, 240, 246, 255, 255 |
LookParametersVersion | 13.1 |
LookSupportsAmount | false |
LookSupportsMonochrome | false |
LookSupportsOutputReferred | false |
LuminanceAdjustmentAqua | 0 |
LuminanceAdjustmentBlue | 0 |
LuminanceAdjustmentGreen | 0 |
LuminanceAdjustmentMagenta | 0 |
LuminanceAdjustmentOrange | 0 |
LuminanceAdjustmentPurple | 0 |
LuminanceAdjustmentRed | 0 |
LuminanceAdjustmentYellow | 0 |
LuminanceSmoothing | 0 |
Make | Canon |
MaxApertureValue | 4.0 |
Megapixels | 8.9 |
MeteringMode | Multi-segment |
Model | Canon EOS 6D |
ModifyDate (1) | 2022:01:23 15:21:11+01:00 |
ModifyDate | 2022:01:23 15:21:11 |
Orientation | Horizontal (normal) |
OriginatingProgram | Topaz Labs |
OverrideLookVignette | False |
ParametricDarks | 0 |
ParametricHighlights | 0 |
ParametricHighlightSplit | 75 |
ParametricLights | 0 |
ParametricMidtoneSplit | 50 |
ParametricShadows | 0 |
ParametricShadowSplit | 25 |
PerspectiveAspect | 0 |
PerspectiveHorizontal | 0 |
PerspectiveRotate | 0.0 |
PerspectiveScale | 100 |
PerspectiveUpright | 0 |
PerspectiveVertical | 0 |
PerspectiveX | 0.00 |
PerspectiveY | 0.00 |
PostCropVignetteAmount | -25 |
PostCropVignetteFeather | 96 |
PostCropVignetteHighlightContrast | 0 |
PostCropVignetteMidpoint | 0 |
PostCropVignetteRoundness | +64 |
PostCropVignetteStyle | 1 |
ProcessVersion | 11.0 |
ProfileDescription | Adobe RGB (1998) |
Rating | 0 |
RecommendedExposureIndex | 500 |
RedHue | 0 |
RedSaturation | +98 |
SamplesPerPixel | 3 |
Saturation | 0 |
SaturationAdjustmentAqua | 0 |
SaturationAdjustmentBlue | 0 |
SaturationAdjustmentGreen | 0 |
SaturationAdjustmentMagenta | 0 |
SaturationAdjustmentOrange | 0 |
SaturationAdjustmentPurple | 0 |
SaturationAdjustmentRed | 0 |
SaturationAdjustmentYellow | 0 |
ScaleFactor35efl | 1.5 |
SceneCaptureType | Standard |
SensitivityType | Recommended Exposure Index |
SerialNumber | 113053004422 |
Shadows2012 | +74 |
ShadowTint | 0 |
SharpenDetail | 25 |
SharpenEdgeMasking | 0 |
SharpenRadius | +1.0 |
Sharpness | 40 |
ShutterSpeed | 1/320 |
ShutterSpeedValue | 1/320 |
Software | Adobe Photoshop 23.1 (Windows) |
SplitToningBalance | 0 |
SplitToningHighlightHue | 0 |
SplitToningHighlightSaturation | 0 |
SplitToningShadowHue | 0 |
SplitToningShadowSaturation | 0 |
Texture | 0 |
Tint | +16 |
ToneCurveName2012 | Linear |
ToneCurvePV2012 | 0, 0, 255, 255 |
ToneCurvePV2012Blue | 0, 0, 255, 255 |
ToneCurvePV2012Green | 0, 0, 255, 255 |
ToneCurvePV2012Red | 0, 0, 255, 255 |
Version | 13.1 |
Vibrance | 0 |
VignetteAmount | 0 |
WhiteBalance (1) | As Shot |
WhiteBalance | Auto |
Whites2012 | 0 |