Felt | Verdi |
AlreadyApplied | True |
BitsPerSample (1) | 8 8 8 8 |
BitsPerSample | 8 |
Blacks2012 | 0 |
Clarity2012 | +24 |
ColorComponents | 1 |
ColorGradeBlending | 50 |
ColorGradeGlobalHue | 0 |
ColorGradeGlobalLum | 0 |
ColorGradeGlobalSat | 0 |
ColorGradeHighlightLum | 0 |
ColorGradeMidtoneHue | 0 |
ColorGradeMidtoneLum | 0 |
ColorGradeMidtoneSat | 0 |
ColorGradeShadowLum | 0 |
ColorMode | Grayscale |
ColorSpace | Uncalibrated |
ColorTransform | Unknown (RGB or CMYK) |
Contrast2012 | -3 |
CreateDate | 2021:11:28 17:44:12+01:00 |
CreatorTool | SilverFast 8.8.0 r25 (Jun 25 2021) d6df961 25.06. |
Dehaze | +48 |
ExifImageHeight | 2520 |
ExifImageWidth | 2500 |
Exposure2012 | +0.50 |
Format | image/jpeg |
GrainAmount | 0 |
HasCrop | False |
HasSettings | True |
Highlights2012 | -55 |
ICCProfileName | Gray Gamma 2.2 |
ImageHeight | 2520 |
ImageSize | 2500x2520 |
ImageWidth | 2500 |
LensManualDistortionAmount | 0 |
LensProfileEnable | 0 |
LuminanceSmoothing | 0 |
Make | EPSON |
Megapixels | 6.3 |
Model | Perfection V700/V750 |
ModifyDate (1) | 2024:10:02 20:44:24+02:00 |
ModifyDate | 2024:10:02 20:44:24 |
Orientation | Horizontal (normal) |
OverrideLookVignette | False |
ParametricDarks | 0 |
ParametricHighlights | 0 |
ParametricHighlightSplit | 75 |
ParametricLights | 0 |
ParametricMidtoneSplit | 50 |
ParametricShadows | 0 |
ParametricShadowSplit | 25 |
PerspectiveAspect | 0 |
PerspectiveHorizontal | 0 |
PerspectiveRotate | 0.0 |
PerspectiveScale | 100 |
PerspectiveUpright | 0 |
PerspectiveVertical | 0 |
PerspectiveX | 0.00 |
PerspectiveY | 0.00 |
PhotometricInterpretation | BlackIsZero |
PostCropVignetteAmount | 0 |
ProcessVersion | 11.0 |
ProfileDescription | Gray Gamma 2.2 |
Rating | 0 |
SamplesPerPixel | 4 |
Shadows2012 | 0 |
Sharpness | 0 |
Software | Adobe Photoshop 25.9 (Macintosh) |
SplitToningBalance | 0 |
SplitToningHighlightHue | 0 |
SplitToningHighlightSaturation | 0 |
SplitToningShadowHue | 0 |
SplitToningShadowSaturation | 0 |
Texture | 0 |
ToneCurveName2012 | Linear |
ToneCurvePV2012 | 0, 0, 255, 255 |
ToneCurvePV2012Blue | 0, 0, 255, 255 |
ToneCurvePV2012Green | 0, 0, 255, 255 |
ToneCurvePV2012Red | 0, 0, 255, 255 |
URL_List | |
Version | 14.0.1 |
VignetteAmount | 0 |
Whites2012 | -21 |