Felt | Verdi |
AlreadyApplied | True |
Aperture | 5.0 |
ApertureValue | 5.0 |
BitsPerSample | 8 |
BlueHue | 0 |
BlueSaturation | 0 |
Brightness | +50 |
CameraProfile | ACR 2.4 |
ChromaticAberrationB | 0 |
ChromaticAberrationR | 0 |
Clarity | 0 |
ColorComponents | 1 |
ColorMode | RGB |
ColorNoiseReduction | 25 |
ColorSpace | sRGB |
ColorTemperature | 6048 |
Contrast | +64 |
ConvertToGrayscale | False |
CopyrightFlag | False |
CreateDate (1) | 2008:07:11 22:35:48+02:00 |
CreateDate | 2008:03:18 13:01:22 |
CreatorTool | Adobe Photoshop CS3 Windows |
DateTimeDigitized | 2008:03:18 13:01:22+01:00 |
DateTimeOriginal (1) | 2008:03:18 13:01:22+01:00 |
DateTimeOriginal | 2008:03:18 13:01:22 |
Defringe | 0 |
ExifImageHeight | 683 |
ExifImageWidth | 1024 |
Exposure | 0.00 |
ExposureCompensation | 0 |
ExposureProgram | Manual |
ExposureTime | 1/40 |
FillLight | 0 |
Firmware | 1.1.1 |
Flash | No Flash |
FlashFired | False |
FNumber | 5.0 |
FocalLength | 38.0 mm |
FocalLength35efl | 38.0 mm |
Format | image/jpeg |
GreenHue | 0 |
GreenSaturation | 0 |
HasCrop | False |
HasSettings | True |
HighlightRecovery | 0 |
HueAdjustmentAqua | 0 |
HueAdjustmentBlue | 0 |
HueAdjustmentGreen | 0 |
HueAdjustmentMagenta | 0 |
HueAdjustmentOrange | 0 |
HueAdjustmentPurple | 0 |
HueAdjustmentRed | 0 |
HueAdjustmentYellow | 0 |
ICCProfileName | sRGB IEC61966-2.1 |
ImageHeight (1) | 2048 |
ImageHeight | 683 |
ImageSize | 1024x683 |
ImageWidth (1) | 3072 |
ImageWidth | 1024 |
ISO | 200 |
Lens | 18.0-55.0 mm |
LensInfo | 18-55mm f/? |
LightValue | 9.0 |
LuminanceAdjustmentAqua | 0 |
LuminanceAdjustmentBlue | 0 |
LuminanceAdjustmentGreen | 0 |
LuminanceAdjustmentMagenta | 0 |
LuminanceAdjustmentOrange | 0 |
LuminanceAdjustmentPurple | 0 |
LuminanceAdjustmentRed | 0 |
LuminanceAdjustmentYellow | 0 |
LuminanceSmoothing | 0 |
Make | Canon |
MaxApertureValue | 4.5 |
Megapixels | 0.699 |
MeteringMode | Center-weighted average |
Model | Canon EOS 300D DIGITAL |
ModifyDate (1) | 2008:07:11 22:35:48+02:00 |
ModifyDate | 2008:07:11 22:35:48 |
Orientation | Horizontal (normal) |
ParametricDarks | 0 |
ParametricHighlights | 0 |
ParametricHighlightSplit | 75 |
ParametricLights | 0 |
ParametricMidtoneSplit | 50 |
ParametricShadows | 0 |
ParametricShadowSplit | 25 |
ProfileDescription | sRGB IEC61966-2.1 |
Rating | 4 |
RedHue | 0 |
RedSaturation | 0 |
Saturation | 0 |
SaturationAdjustmentAqua | +76 |
SaturationAdjustmentBlue | +100 |
SaturationAdjustmentGreen | 0 |
SaturationAdjustmentMagenta | 0 |
SaturationAdjustmentOrange | +17 |
SaturationAdjustmentPurple | 0 |
SaturationAdjustmentRed | +19 |
SaturationAdjustmentYellow | 0 |
SerialNumber | 1330521683 |
Shadows | 5 |
ShadowTint | 0 |
SharpenDetail | 25 |
SharpenEdgeMasking | 0 |
SharpenRadius | +1.0 |
Sharpness | 25 |
ShutterSpeed | 1/40 |
ShutterSpeedValue | 1/40 |
Software | Adobe Photoshop CS3 Windows |
SplitToningBalance | 0 |
SplitToningHighlightHue | 0 |
SplitToningHighlightSaturation | 0 |
SplitToningShadowHue | 0 |
SplitToningShadowSaturation | 0 |
Tint | +3 |
ToneCurve | 0, 0, 32, 22, 64, 56, 128, 128, 192, 196, 255, 255 |
ToneCurveName | Medium Contrast |
URL_List | |
Version | 1.0 |
Vibrance | -52 |
VignetteAmount | -26 |
VignetteMidpoint | 50 |
WhiteBalance | Custom |