Felt | Verdi |
AlreadyApplied | True |
Aperture | 8.0 |
ApertureValue | 8.0 |
Artist | Geir A Granviken |
BitsPerSample | 8 |
BlueHue | 0 |
BlueSaturation | 0 |
Brightness | +14 |
By-line | Geir A Granviken |
CameraProfile | Embedded |
Caption-Abstract | Løvinnen |
CaptionWriter | |
ChromaticAberrationB | 0 |
ChromaticAberrationR | 0 |
CircleOfConfusion | 0.019 mm |
Clarity | 0 |
ColorComponents | 3 |
ColorNoiseReduction | 0 |
ColorSpace | Uncalibrated |
Contrast | 0 |
ConvertToGrayscale | False |
Copyright | © 2009 Geir A Granviken |
CopyrightNotice | © 2009 Geir A Granviken |
CreateDate (1) | 2009:02:26 16:17:15.3+1:00 |
CreateDate | 2009:02:26 16:17:15 |
Creator | Geir A Granviken |
CreatorTool | Adobe Photoshop Lightroom |
CropAngle | 0 |
CropBottom | 1 |
CropHeight | 848 |
CropLeft | 0.187158 |
CropRight | 0.75419 |
CropTop | 0.149451 |
CropUnit | pixels |
CropWidth | 848 |
CustomRendered | Normal |
DateTimeDigitized | 2009:02:26 16:17:15.3+1:00 |
DateTimeOriginal (1) | 2009:02:26 16:17:15.3+1:00 |
DateTimeOriginal | 2009:02:26 16:17:15 |
Defringe | 0 |
Description | Løvinnen |
ExifImageHeight | 848 |
ExifImageWidth | 848 |
Exposure | +0.38 |
ExposureCompensation | 0 |
ExposureMode | Manual |
ExposureProgram | Manual |
ExposureTime | 1/60 |
FillLight | 0 |
Firmware | 1.0.4 |
Flash | On, Fired |
FlashCompensation | -0.333333333333333 |
FlashFired | True |
FlashFunction | False |
FlashMode | On |
FlashRedEyeMode | False |
FlashReturn | No return detection |
FNumber | 8.0 |
FocalLength | 10.0 mm |
FocalLength35efl | 10.0 mm (35 mm equivalent: 16.2 mm) |
FOV | 96.2 deg |
GreenHue | 0 |
GreenSaturation | 0 |
HasCrop | True |
HasSettings | True |
Headline | |
HighlightRecovery | 0 |
HueAdjustmentAqua | 0 |
HueAdjustmentBlue | 0 |
HueAdjustmentGreen | 0 |
HueAdjustmentMagenta | 0 |
HueAdjustmentOrange | 0 |
HueAdjustmentPurple | 0 |
HueAdjustmentRed | 0 |
HueAdjustmentYellow | 0 |
HyperfocalDistance | 0.67 m |
ImageDescription | Løvinnen |
ImageHeight | 848 |
ImageNumber | 0 |
ImageSize | 848x848 |
ImageWidth | 848 |
IncrementalTemperature | 0 |
IncrementalTint | 0 |
Instructions | |
ISO | 200 |
Lens | 10-20mm |
LensInfo | 10-20mm f/? |
LightValue | 10.9 |
Location | |
LuminanceAdjustmentAqua | 0 |
LuminanceAdjustmentBlue | 0 |
LuminanceAdjustmentGreen | 0 |
LuminanceAdjustmentMagenta | 0 |
LuminanceAdjustmentOrange | 0 |
LuminanceAdjustmentPurple | 0 |
LuminanceAdjustmentRed | 0 |
LuminanceAdjustmentYellow | 0 |
LuminanceSmoothing | 0 |
Make | Canon |
MaxApertureValue | 4.0 |
Megapixels | 0.719 |
MeteringMode | Multi-segment |
Model | Canon EOS 450D |
ModifyDate (1) | 2009:09:22 23:08:10.0+1:00 |
ModifyDate | 2009:09:22 23:08:10 |
OwnerName | Geir A Granviken |
PaintCorrectionActive | true |
PaintCorrectionAmount | 1.000000 |
PaintCorrectionBrightness | -0.275000 |
PaintCorrectionClarity | -1.000000 |
PaintCorrectionContrast | -1.000000 |
PaintCorrectionExposure | -1.000000 |
PaintCorrectionHue | 0.000000 |
PaintCorrectionMaskCenterWeight (5) | 0.004936 |
PaintCorrectionMaskCenterWeight | 0.052803 |
PaintCorrectionMaskFlow | 1.000000 |
PaintCorrectionMaskRadius (3) | 0.141920 |
PaintCorrectionMaskRadius (5) | 0.135375 |
PaintCorrectionMaskRadius (6) | 0.080432 |
PaintCorrectionMaskRadius (8) | 0.133369 |
PaintCorrectionMaskRadius | 0.091761 |
PaintCorrectionMaskValue (8) | 0.000000 |
PaintCorrectionMaskValue | 1.000000 |
PaintCorrectionMaskWhat | Mask/Paint |
PaintCorrectionSaturation (1) | -1.000000 |
PaintCorrectionSaturation | 0.000000 |
PaintCorrectionSharpness | -1.000000 |
PaintCorrectionWhat | Correction |
ParametricDarks | 0 |
ParametricHighlights | 0 |
ParametricHighlightSplit | 75 |
ParametricLights | 0 |
ParametricMidtoneSplit | 50 |
ParametricShadows | 0 |
ParametricShadowSplit | 25 |
PostCropVignetteAmount | 0 |
PrimaryChromaticities | 0.64 |
ProfileDescription | sRGB IEC61966-2.1 |
RedHue | 0 |
RedSaturation | 0 |
Rights | © 2009 Geir A Granviken |
Saturation | 0 |
SaturationAdjustmentAqua | 0 |
SaturationAdjustmentBlue | 0 |
SaturationAdjustmentGreen | 0 |
SaturationAdjustmentMagenta | 0 |
SaturationAdjustmentOrange | 0 |
SaturationAdjustmentPurple | 0 |
SaturationAdjustmentRed | 0 |
SaturationAdjustmentYellow | 0 |
ScaleFactor35efl | 1.6 |
SceneCaptureType | Standard |
SerialNumber | 680266845 |
Shadows | 1 |
ShadowTint | 0 |
SharpenDetail | 25 |
SharpenEdgeMasking | 0 |
SharpenRadius | +1.0 |
Sharpness | 25 |
ShutterSpeed | 1/60 |
ShutterSpeedValue | 1/60 |
Software | Adobe Photoshop Lightroom |
SpecialInstructions | |
SplitToningBalance | 0 |
SplitToningHighlightHue | 0 |
SplitToningHighlightSaturation | 0 |
SplitToningShadowHue | 0 |
SplitToningShadowSaturation | 0 |
ToneCurve | 0, 0, 255, 255 |
ToneCurveName | Linear |
Urgency | Unknown () |
UserComment | |
Version | 5.3 |
Vibrance | +25 |
VignetteAmount | 0 |
WhiteBalance (2) | As Shot |
WhiteBalance | Auto |
WhitePoint | 0.313 |