Felt | Verdi |
AlreadyApplied | True |
Aperture | 8.0 |
ApertureValue | 8.0 |
Artist | Finn Arnold Risnes |
BitsPerSample | 8 |
BlueHue | +5 |
BlueSaturation | -15 |
Brightness | +46 |
By-line | Finn Arnold Risnes |
CameraProfile | Camera Standard |
CFAPattern | [Red,Green][Green,Blue] |
ChromaticAberrationB | 0 |
ChromaticAberrationR | 0 |
CircleOfConfusion | 0.020 mm |
Clarity | -17 |
ColorComponents | 1 |
ColorNoiseReduction | 25 |
ColorTemperature | 6050 |
Contrast (2) | +15 |
Contrast | Normal |
ConvertToGrayscale | False |
Copyright | Finn Arnold Risnes |
CopyrightNotice | Finn Arnold Risnes |
CreateDate (1) | 2010:06:05 16:18:40.17+02:00 |
CreateDate | 2010:06:05 16:18:40 |
Creator | Finn Arnold Risnes |
CreatorTool | Adobe Photoshop Lightroom |
CropAngle | -1.125 |
CropBottom | 0.96321 |
CropHeight | 2559 |
CropLeft | 0.018777 |
CropRight | 0.92894 |
CropTop | 0.091326 |
CropUnit | pixels |
CropWidth | 3854 |
CustomRendered | Normal |
DateTimeDigitized | 2010:06:05 16:18:40.17+02:00 |
DateTimeOriginal (1) | 2010:06:05 16:18:40.17+02:00 |
DateTimeOriginal | 2010:06:05 16:18:40 |
Defringe | 0 |
DigitalZoomRatio | 1 |
DOF | 1.17 m (2.52 - 3.68 m) |
ExifImageHeight | 2559 |
ExifImageWidth | 3854 |
Exposure | 0.00 |
ExposureCompensation | 0 |
ExposureMode | Auto |
ExposureProgram | Aperture-priority AE |
ExposureTime | 1/400 |
FillLight | 25 |
Flash | No Flash |
FlashFired | False |
FlashFunction | False |
FlashMode | Unknown |
FlashRedEyeMode | False |
FlashReturn | No return detection |
FNumber | 8.0 |
FocalLength | 50.0 mm |
FocalLength35efl | 50.0 mm (35 mm equivalent: 75.0 mm) |
FocalLengthIn35mmFormat | 75 mm |
FOV | 27.0 deg |
GainControl | None |
GreenHue | +5 |
GreenSaturation | -5 |
HasCrop | True |
HasSettings | True |
HighlightRecovery | 10 |
HueAdjustmentAqua | 0 |
HueAdjustmentBlue | 0 |
HueAdjustmentGreen | 0 |
HueAdjustmentMagenta | 0 |
HueAdjustmentOrange | +2 |
HueAdjustmentPurple | 0 |
HueAdjustmentRed | +2 |
HueAdjustmentYellow | -2 |
HyperfocalDistance | 15.60 m |
ImageHeight | 2559 |
ImageNumber | 5442 |
ImageSize | 3854x2559 |
ImageWidth | 3854 |
ISO | 200 |
Lens | 50.0 mm f/1.4 |
LensID (1) | 222 |
LensID | Sigma 50mm F1.4 EX DG HSM |
LensInfo | 50mm f/1.4 |
LightSource | Unknown |
LightValue | 13.6 |
LuminanceAdjustmentAqua | +58 |
LuminanceAdjustmentBlue | -100 |
LuminanceAdjustmentGreen | 0 |
LuminanceAdjustmentMagenta | 0 |
LuminanceAdjustmentOrange | 0 |
LuminanceAdjustmentPurple | 0 |
LuminanceAdjustmentRed | 0 |
LuminanceAdjustmentYellow | +48 |
LuminanceSmoothing | 77 |
Make | NIKON CORPORATION |
MaxApertureValue | 1.4 |
Megapixels | 9.9 |
MeteringMode | Spot |
Model | NIKON D300 |
ModifyDate (1) | 2010:06:08 19:13:20+02:00 |
ModifyDate | 2010:06:08 19:13:20 |
ParametricDarks | -24 |
ParametricHighlights | +55 |
ParametricHighlightSplit | 90 |
ParametricLights | +45 |
ParametricMidtoneSplit | 50 |
ParametricShadows | -64 |
ParametricShadowSplit | 10 |
PostCropVignetteAmount | 0 |
ProfileDescription | sRGB IEC61966-2.1 |
RedHue | +2 |
RedSaturation | +8 |
Rights | Finn Arnold Risnes |
Saturation (2) | +3 |
Saturation | Normal |
SaturationAdjustmentAqua | -100 |
SaturationAdjustmentBlue | -100 |
SaturationAdjustmentGreen | -100 |
SaturationAdjustmentMagenta | -100 |
SaturationAdjustmentOrange | -100 |
SaturationAdjustmentPurple | -100 |
SaturationAdjustmentRed | -100 |
SaturationAdjustmentYellow | -100 |
ScaleFactor35efl | 1.5 |
SceneCaptureType | Standard |
SceneType | Directly photographed |
SensingMethod | One-chip color area |
SerialNumber | 4049142 |
Shadows | 6 |
ShadowTint | 0 |
SharpenDetail | 25 |
SharpenEdgeMasking | 0 |
SharpenRadius | +2.4 |
Sharpness (2) | 145 |
Sharpness | Normal |
ShutterSpeed | 1/400 |
ShutterSpeedValue | 1/400 |
Software | Ver.1.10 |
SplitToningBalance | 0 |
SplitToningHighlightHue | 0 |
SplitToningHighlightSaturation | 0 |
SplitToningShadowHue | 0 |
SplitToningShadowSaturation | 0 |
SubjectDistance | 2.99 m |
SubjectDistanceRange | Unknown |
Tint | -16 |
ToneCurve | 0, 0, 255, 255 |
ToneCurveName | Linear |
Version | 5.7 |
Vibrance | +40 |
VignetteAmount | 0 |
WhiteBalance (2) | As Shot |
WhiteBalance | Auto |