Felt | Verdi |
AlreadyApplied | True |
Aperture | 4.0 |
ApertureValue | 4.0 |
ApproximateFocusDistance | 8 |
Artist | RUNE*NILSSEN |
AutoLateralCA | 1 |
BitsPerSample | 8 |
Blacks2012 | -39 |
BlueHue | 0 |
BlueSaturation | 0 |
Brightness | +50 |
By-line | RUNE*NILSSEN |
CameraProfile | Adobe Standard |
CFAPattern | [Blue,Green][Green,Red] |
CircleOfConfusion | 0.020 mm |
Clarity | 0 |
Clarity2012 | 0 |
ColorComponents | 3 |
ColorMode | RGB |
ColorNoiseReduction | 87 |
ColorNoiseReductionDetail | 0 |
ColorSpace | sRGB |
ColorTemperature | 6400 |
Contrast (1) | +25 |
Contrast | Normal |
Contrast2012 | +25 |
ConvertToGrayscale | False |
Copyright | Rune Nilssen |
CopyrightFlag | True |
CopyrightNotice | Rune Nilssen |
CreateDate | 2012:11:01 18:41:48 |
Creator | RUNE*NILSSEN |
CreatorTool | K-5 Ver 1.13 |
CustomRendered | Normal |
DateCreated (1) | 2012:11:01 |
DateCreated | 2012:11:01 18:41:48 |
DateTimeOriginal | 2012:11:01 18:41:48 |
Defringe | 0 |
DOF | inf (2.05 m - inf) |
ExifImageHeight | 678 |
ExifImageWidth | 1024 |
Exposure | 0.00 |
Exposure2012 | -0.80 |
ExposureCompensation | 0 |
ExposureMode | Manual |
ExposureProgram | Manual |
ExposureTime | 15 |
FillLight | 0 |
Flash | Off, Did not fire |
FNumber | 4.0 |
FocalLength | 15.0 mm |
FocalLength35efl | 15.0 mm (35 mm equivalent: 22.0 mm) |
FocalLengthIn35mmFormat | 22 mm |
Format | image/jpeg |
FOV | 78.6 deg |
GrainAmount | 0 |
GreenHue | 0 |
GreenSaturation | 0 |
HasCrop | False |
HasSettings | True |
HighlightRecovery | 0 |
Highlights2012 | +21 |
HueAdjustmentAqua | 0 |
HueAdjustmentBlue | 0 |
HueAdjustmentGreen | 0 |
HueAdjustmentMagenta | 0 |
HueAdjustmentOrange | 0 |
HueAdjustmentPurple | 0 |
HueAdjustmentRed | 0 |
HueAdjustmentYellow | 0 |
HyperfocalDistance | 2.75 m |
ICCProfileName | sRGB IEC61966-2.1 |
ImageHeight | 678 |
ImageSize | 1024x678 |
ImageWidth | 1024 |
ISO | 3200 |
Lens | smc PENTAX-DA 15mm F4 ED AL Limited |
LensID (1) | 7 224 |
LensID | smc PENTAX-DA 15mm F4 ED AL Limited |
LensInfo | 15mm f/4 |
LensManualDistortionAmount | 0 |
LensModel | smc PENTAX-DA 15mm F4 ED AL Limited |
LensProfileChromaticAberrationScale | 100 |
LensProfileDistortionScale | 100 |
LensProfileEnable | 1 |
LensProfileFilename | PENTAX (smc PENTAX-DA 15mm F4 ED AL Limited).lcp |
LensProfileName | Adobe (smc PENTAX-DA 15mm F4 ED AL Limited) |
LensProfileSetup | LensDefaults |
LensProfileVignettingScale | 100 |
LightValue | -4.9 |
LuminanceAdjustmentAqua | 0 |
LuminanceAdjustmentBlue | 0 |
LuminanceAdjustmentGreen | 0 |
LuminanceAdjustmentMagenta | 0 |
LuminanceAdjustmentOrange | 0 |
LuminanceAdjustmentPurple | 0 |
LuminanceAdjustmentRed | 0 |
LuminanceAdjustmentYellow | 0 |
LuminanceNoiseReductionContrast | 6 |
LuminanceNoiseReductionDetail | 54 |
LuminanceSmoothing | 50 |
Make | PENTAX |
Marked | True |
Megapixels | 0.694 |
MeteringMode | Multi-segment |
Model | PENTAX K-5 |
ModifyDate (1) | 2012:11:01 20:20:02+01:00 |
ModifyDate | 2012:11:01 20:20:02 |
Orientation | Horizontal (normal) |
ParametricDarks | -72 |
ParametricHighlights | +63 |
ParametricHighlightSplit | 75 |
ParametricLights | +39 |
ParametricMidtoneSplit | 50 |
ParametricShadows | 0 |
ParametricShadowSplit | 25 |
PerspectiveHorizontal | 0 |
PerspectiveRotate | 0.0 |
PerspectiveScale | 100 |
PerspectiveVertical | 0 |
PostCropVignetteAmount | 0 |
ProcessVersion | 6.7 |
ProfileDescription | sRGB IEC61966-2.1 |
Rating | 0 |
RawFileName | RUNE2645.PEF |
RedHue | 0 |
RedSaturation | 0 |
Rights | Rune Nilssen |
Saturation (1) | +11 |
Saturation | Normal |
SaturationAdjustmentAqua | 0 |
SaturationAdjustmentBlue | 0 |
SaturationAdjustmentGreen | 0 |
SaturationAdjustmentMagenta | 0 |
SaturationAdjustmentOrange | 0 |
SaturationAdjustmentPurple | 0 |
SaturationAdjustmentRed | 0 |
SaturationAdjustmentYellow | 0 |
ScaleFactor35efl | 1.5 |
SceneCaptureType | Standard |
SensingMethod | One-chip color area |
Shadows | 5 |
Shadows2012 | 0 |
ShadowTint | 0 |
SharpenDetail | 4 |
SharpenEdgeMasking | 0 |
SharpenRadius | +0.5 |
Sharpness (1) | 0 |
Sharpness | Normal |
ShutterSpeed | 15 |
ShutterSpeedValue | 15 |
Software | Adobe Photoshop CS6 (Windows) |
SplitToningBalance | 0 |
SplitToningHighlightHue | 0 |
SplitToningHighlightSaturation | 0 |
SplitToningShadowHue | 0 |
SplitToningShadowSaturation | 0 |
SubjectDistanceRange | Distant |
Tint | +23 |
ToneCurve | 0, 0, 32, 22, 64, 56, 128, 128, 192, 196, 255, 255 |
ToneCurveBlue | 0, 0, 255, 255 |
ToneCurveGreen | 0, 0, 255, 255 |
ToneCurveName | Medium Contrast |
ToneCurveName2012 | Linear |
ToneCurvePV2012 | 0, 0, 255, 255 |
ToneCurvePV2012Blue | 0, 0, 255, 255 |
ToneCurvePV2012Green | 0, 0, 255, 255 |
ToneCurvePV2012Red | 0, 0, 255, 255 |
ToneCurveRed | 0, 0, 255, 255 |
URL_List | |
UsageTerms | |
Version | 7.0 |
Vibrance | +13 |
VignetteAmount | 0 |
WhiteBalance (1) | As Shot |
WhiteBalance | Auto |
Whites2012 | +6 |